BEGIN:VCALENDAR
VERSION:2.0
PRODID:-//wp-events-plugin.com//7.2.3.1//EN
TZID:Europe/Berlin
X-WR-TIMEZONE:Europe/Berlin
BEGIN:VEVENT
UID:37@riechundsuch.de
DTSTART;TZID=Europe/Berlin:20221009T110000
DTEND;TZID=Europe/Berlin:20221009T150000
DTSTAMP:20221004T143304Z
URL:https://www.riechundsuch.de/events/pruefungstag-achim-stufe-e-bis-m-nr
 -221009/
SUMMARY:Prüfungstag Achim (Stufe E bis M) Nr. 221009
DESCRIPTION:Dieser Prüfungstag ist offen für alle Trailteams\, die sich n
 ach der PO des CCM ( https://www.cc-mantrailing.de/index.html ) überprüf
 en lassen wollen.\n\nDer genaue Treffpunkt mit Uhrzeit wird Dir 1-2 Tage v
 or der Prüfung mitgeteilt.\n\nWICHTIG --&gt\; Bitte gib im Kommentarfeld 
 den vollständigen Hundenamen und den Hundeführer an\, damit wir die Urku
 nde vorbereiten können. :-)\n\nHinweis: Durch das Abschicken Deiner Beste
 llung erkennst Du unsere AGB und die Widerrufsbelehrung an.\n\nSolltest Du
  Probleme mit der Registrierung oder Anmeldung haben\, schaue Dir unsere F
 AQ an.\n\n&nbsp\;
LOCATION:Achim\, 28832\, Achim\, Deutschland
X-APPLE-STRUCTURED-LOCATION;VALUE=URI;X-ADDRESS=28832\, Achim\, Deutschland
 ;X-APPLE-RADIUS=100;X-TITLE=Achim:geo:0,0
END:VEVENT
BEGIN:VTIMEZONE
TZID:Europe/Berlin
X-LIC-LOCATION:Europe/Berlin
BEGIN:DAYLIGHT
DTSTART:20220327T030000
TZOFFSETFROM:+0100
TZOFFSETTO:+0200
TZNAME:CEST
END:DAYLIGHT
END:VTIMEZONE
END:VCALENDAR